BEGIN:VCALENDAR
VERSION:2.0
PRODID:-//Plusessentiel - ECPv6.15.20//NONSGML v1.0//EN
CALSCALE:GREGORIAN
METHOD:PUBLISH
X-WR-CALNAME:Plusessentiel
X-ORIGINAL-URL:https://plusessentiel.com
X-WR-CALDESC:Évènements pour Plusessentiel
REFRESH-INTERVAL;VALUE=DURATION:PT1H
X-Robots-Tag:noindex
X-PUBLISHED-TTL:PT1H
BEGIN:VTIMEZONE
TZID:Europe/Paris
BEGIN:DAYLIGHT
TZOFFSETFROM:+0100
TZOFFSETTO:+0200
TZNAME:CEST
DTSTART:20180325T010000
END:DAYLIGHT
BEGIN:STANDARD
TZOFFSETFROM:+0200
TZOFFSETTO:+0100
TZNAME:CET
DTSTART:20181028T010000
END:STANDARD
BEGIN:DAYLIGHT
TZOFFSETFROM:+0100
TZOFFSETTO:+0200
TZNAME:CEST
DTSTART:20190331T010000
END:DAYLIGHT
BEGIN:STANDARD
TZOFFSETFROM:+0200
TZOFFSETTO:+0100
TZNAME:CET
DTSTART:20191027T010000
END:STANDARD
BEGIN:DAYLIGHT
TZOFFSETFROM:+0100
TZOFFSETTO:+0200
TZNAME:CEST
DTSTART:20200329T010000
END:DAYLIGHT
BEGIN:STANDARD
TZOFFSETFROM:+0200
TZOFFSETTO:+0100
TZNAME:CET
DTSTART:20201025T010000
END:STANDARD
END:VTIMEZONE
BEGIN:VEVENT
DTSTART;VALUE=DATE:20191027
DTEND;VALUE=DATE:20191028
DTSTAMP:20260423T203422
CREATED:20181105T215113Z
LAST-MODIFIED:20240922T081625Z
UID:546-1572134400-1572220799@plusessentiel.com
SUMMARY:Journee Essentielle Aromatherapie Familiale
DESCRIPTION:Afin de vous permettre d’utiliser les huiles essentielles dans votre quotidien en toute sécurité et pour vous aider à les utiliser pour les bobos de toute la famille\, je vous invite à nous retrouver toute la journée autour de l’aromathérapie et de leurs bienfaits\n\nCette journée se veut ludique et pratique afin que vous puissiez passer intégrer pleinement le naturel dans votre vie.\n\nProgramme\n\nHistorique\n\nPrécautions d’emploi\n\nMode de fabrication et d’utilisation\n\nLa trousse familiale : 12 huiles essentielles pour votre quotidien\n\nDes formules simples à mettre en oeuvre\n\nQuizz\n\n 
URL:https://plusessentiel.com/evenement/journee-initiation-aromatherapie-familiale/
LOCATION:Cabinet Plus Essentiel\, 3B rue Joseph Roumanille\, Roquebrune-sur-Argens\, 83520\, France
CATEGORIES:Formations en aromathérapie
ATTACH;FMTTYPE=image/jpeg:https://plusessentiel.com/wp-content/uploads/2018/07/cosmetic-oil-3493928_1920.jpg
END:VEVENT
END:VCALENDAR